BEGIN:VCALENDAR
PRODID:-//AT Content Types//AT Event//EN
VERSION:2.0
METHOD:PUBLISH
BEGIN:VEVENT
DTSTAMP:20260423T083007Z
CREATED:20180219T114726Z
UID:ATEvent-9e754503443c487bab3732f5f5974768
LAST-MODIFIED:20180219T120716Z
SUMMARY:Exposició - Els passos del Camí
DTSTART:20150723T220000Z
DTEND:20150905T220000Z
DESCRIPTION:Envolta't per la història de l'electricitat i d'Andorra p
 assejant pel Camí Hidroelèctric a Illa Carlemany
LOCATION:Illa Carlemany
CLASS:PUBLIC
END:VEVENT
END:VCALENDAR
